BEGIN:VCALENDAR
VERSION:2.0
PRODID:-//The Glen Club - ECPv6.15.18//NONSGML v1.0//EN
CALSCALE:GREGORIAN
METHOD:PUBLISH
X-ORIGINAL-URL:https://www.theglenclub.com
X-WR-CALDESC:Events for The Glen Club
REFRESH-INTERVAL;VALUE=DURATION:PT1H
X-Robots-Tag:noindex
X-PUBLISHED-TTL:PT1H
BEGIN:VTIMEZONE
TZID:America/Chicago
BEGIN:DAYLIGHT
TZOFFSETFROM:-0600
TZOFFSETTO:-0500
TZNAME:CDT
DTSTART:20240310T080000
END:DAYLIGHT
BEGIN:STANDARD
TZOFFSETFROM:-0500
TZOFFSETTO:-0600
TZNAME:CST
DTSTART:20241103T070000
END:STANDARD
BEGIN:DAYLIGHT
TZOFFSETFROM:-0600
TZOFFSETTO:-0500
TZNAME:CDT
DTSTART:20250309T080000
END:DAYLIGHT
BEGIN:STANDARD
TZOFFSETFROM:-0500
TZOFFSETTO:-0600
TZNAME:CST
DTSTART:20251102T070000
END:STANDARD
BEGIN:DAYLIGHT
TZOFFSETFROM:-0600
TZOFFSETTO:-0500
TZNAME:CDT
DTSTART:20260308T080000
END:DAYLIGHT
BEGIN:STANDARD
TZOFFSETFROM:-0500
TZOFFSETTO:-0600
TZNAME:CST
DTSTART:20261101T070000
END:STANDARD
END:VTIMEZONE
BEGIN:VEVENT
DTSTART;TZID=America/Chicago:20250307T160000
DTEND;TZID=America/Chicago:20250307T160000
DTSTAMP:20260425T114550
CREATED:20250212T223555Z
LAST-MODIFIED:20250212T223555Z
UID:10000074-1741363200-1741363200@www.theglenclub.com
SUMMARY:Supper Club Night
DESCRIPTION:The infamous Glen Club supper club night returns! \nEvery Friday 4pm – close.\nFebruary 7 – April 18th at the Glen Club Grill.\nEvery table gets a relish tray \nPo’boys\, fried walleye\, Salsbury steaks\, brandy alexanders\, classic rock and more! \nSee you there!
URL:https://www.theglenclub.com/calendar/supper-club-night-2/2025-03-07/
CATEGORIES:Public
END:VEVENT
BEGIN:VEVENT
DTSTART;TZID=America/Chicago:20250309T103000
DTEND;TZID=America/Chicago:20250309T103000
DTSTAMP:20260425T114550
CREATED:20250212T222444Z
LAST-MODIFIED:20250212T222501Z
UID:10000069-1741516200-1741516200@www.theglenclub.com
SUMMARY:Brunch With Your Favorite Dog
DESCRIPTION:Join us for a brunch with your favorite dog March 9th 2025 10:30 am. \nAdults $38 / Members $33\nChildren 3+ $20 / Members $15\nChildren 2 and under complimentary \nCall Lauren to reserve your spot 847-832-6431
URL:https://www.theglenclub.com/calendar/brunch-with-your-favorite-dog/
CATEGORIES:Public
END:VEVENT
BEGIN:VEVENT
DTSTART;TZID=America/Chicago:20250314T160000
DTEND;TZID=America/Chicago:20250314T160000
DTSTAMP:20260425T114550
CREATED:20250212T223555Z
LAST-MODIFIED:20250212T223555Z
UID:10000075-1741968000-1741968000@www.theglenclub.com
SUMMARY:Supper Club Night
DESCRIPTION:The infamous Glen Club supper club night returns! \nEvery Friday 4pm – close.\nFebruary 7 – April 18th at the Glen Club Grill.\nEvery table gets a relish tray \nPo’boys\, fried walleye\, Salsbury steaks\, brandy alexanders\, classic rock and more! \nSee you there!
URL:https://www.theglenclub.com/calendar/supper-club-night-2/2025-03-14/
CATEGORIES:Public
END:VEVENT
BEGIN:VEVENT
DTSTART;TZID=America/Chicago:20250321T160000
DTEND;TZID=America/Chicago:20250321T160000
DTSTAMP:20260425T114550
CREATED:20250212T223555Z
LAST-MODIFIED:20250212T223555Z
UID:10000076-1742572800-1742572800@www.theglenclub.com
SUMMARY:Supper Club Night
DESCRIPTION:The infamous Glen Club supper club night returns! \nEvery Friday 4pm – close.\nFebruary 7 – April 18th at the Glen Club Grill.\nEvery table gets a relish tray \nPo’boys\, fried walleye\, Salsbury steaks\, brandy alexanders\, classic rock and more! \nSee you there!
URL:https://www.theglenclub.com/calendar/supper-club-night-2/2025-03-21/
CATEGORIES:Public
END:VEVENT
BEGIN:VEVENT
DTSTART;TZID=America/Chicago:20250328T160000
DTEND;TZID=America/Chicago:20250328T160000
DTSTAMP:20260425T114550
CREATED:20250212T223555Z
LAST-MODIFIED:20250212T223555Z
UID:10000077-1743177600-1743177600@www.theglenclub.com
SUMMARY:Supper Club Night
DESCRIPTION:The infamous Glen Club supper club night returns! \nEvery Friday 4pm – close.\nFebruary 7 – April 18th at the Glen Club Grill.\nEvery table gets a relish tray \nPo’boys\, fried walleye\, Salsbury steaks\, brandy alexanders\, classic rock and more! \nSee you there!
URL:https://www.theglenclub.com/calendar/supper-club-night-2/2025-03-28/
CATEGORIES:Public
END:VEVENT
END:VCALENDAR