BEGIN:VCALENDAR
VERSION:2.0
PRODID:-//The Glen Club - ECPv6.15.18//NONSGML v1.0//EN
CALSCALE:GREGORIAN
METHOD:PUBLISH
X-WR-CALNAME:The Glen Club
X-ORIGINAL-URL:https://www.theglenclub.com
X-WR-CALDESC:Events for The Glen Club
REFRESH-INTERVAL;VALUE=DURATION:PT1H
X-Robots-Tag:noindex
X-PUBLISHED-TTL:PT1H
BEGIN:VTIMEZONE
TZID:America/Chicago
BEGIN:DAYLIGHT
TZOFFSETFROM:-0600
TZOFFSETTO:-0500
TZNAME:CDT
DTSTART:20240310T080000
END:DAYLIGHT
BEGIN:STANDARD
TZOFFSETFROM:-0500
TZOFFSETTO:-0600
TZNAME:CST
DTSTART:20241103T070000
END:STANDARD
BEGIN:DAYLIGHT
TZOFFSETFROM:-0600
TZOFFSETTO:-0500
TZNAME:CDT
DTSTART:20250309T080000
END:DAYLIGHT
BEGIN:STANDARD
TZOFFSETFROM:-0500
TZOFFSETTO:-0600
TZNAME:CST
DTSTART:20251102T070000
END:STANDARD
BEGIN:DAYLIGHT
TZOFFSETFROM:-0600
TZOFFSETTO:-0500
TZNAME:CDT
DTSTART:20260308T080000
END:DAYLIGHT
BEGIN:STANDARD
TZOFFSETFROM:-0500
TZOFFSETTO:-0600
TZNAME:CST
DTSTART:20261101T070000
END:STANDARD
END:VTIMEZONE
BEGIN:VEVENT
DTSTART;TZID=America/Chicago:20250608T170000
DTEND;TZID=America/Chicago:20250608T200000
DTSTAMP:20260425T064141
CREATED:20250529T164531Z
LAST-MODIFIED:20250530T170544Z
UID:10000421-1749402000-1749412800@www.theglenclub.com
SUMMARY:Red Sauce Night
DESCRIPTION:Red Sauce Night – Sunday\, June 8th | 5-8pm \nStep into a Chicago-style red sauce night—Italian vibes\, checkered tablecloths\, and live lounge tunes! Join us Sunday\, June 8 from 5-8pm at The Grill for our Red Sauce Joint Takeover. \nWe’re serving up an abbondanza of Italian-American favorites\, complete with red & white checkered tables and a cozy\, old-school vibe. \nEnjoy a special menu inspired by Chicago’s classic red sauce joints\, with a limited grill menu also available. Featuring live lounge piano with pop standards from Diana Krall\, Frank Sinatra\, and more. \nReserve now—call us at 847.832.6403.
URL:https://www.theglenclub.com/calendar/red-sauce-night/
LOCATION:The Glen Club
CATEGORIES:Members,Public
END:VEVENT
BEGIN:VEVENT
DTSTART;TZID=America/Chicago:20250615T110000
DTEND;TZID=America/Chicago:20250615T170000
DTSTAMP:20260425T064141
CREATED:20250518T194318Z
LAST-MODIFIED:20250528T214809Z
UID:10000143-1749985200-1750006800@www.theglenclub.com
SUMMARY:Father's Day Cookout
DESCRIPTION:Sunday\, June 15 | 11:00 AM – 5:00 PM\n$33 per person | $45 with premium meats \nCelebrate Dad in style with a festive summer cookout on the Grill Terrace! Enjoy great food off the live grill\, refreshing drinks\, and a lively Beer Tent featuring Yuengling on tap for $6 a draft. \nBring the whole family for a fun\, relaxed day filled with good vibes\, delicious eats\, and plenty of reasons to toast to Dad. \nReserve now—call us at 847.832.6403. \nWe can’t wait to celebrate with you!
URL:https://www.theglenclub.com/calendar/fathers-day-cookout/
CATEGORIES:Members,Public
ATTACH;FMTTYPE=image/png:https://www.theglenclub.com/wp-content/uploads/sites/9209/2025/05/Fathers-Day-Grillin-e1748467336895.png
END:VEVENT
END:VCALENDAR