BEGIN:VCALENDAR
VERSION:2.0
PRODID:-//The Glen Club - ECPv6.15.18//NONSGML v1.0//EN
CALSCALE:GREGORIAN
METHOD:PUBLISH
X-WR-CALNAME:The Glen Club
X-ORIGINAL-URL:https://www.theglenclub.com
X-WR-CALDESC:Events for The Glen Club
REFRESH-INTERVAL;VALUE=DURATION:PT1H
X-Robots-Tag:noindex
X-PUBLISHED-TTL:PT1H
BEGIN:VTIMEZONE
TZID:America/Chicago
BEGIN:DAYLIGHT
TZOFFSETFROM:-0600
TZOFFSETTO:-0500
TZNAME:CDT
DTSTART:20240310T080000
END:DAYLIGHT
BEGIN:STANDARD
TZOFFSETFROM:-0500
TZOFFSETTO:-0600
TZNAME:CST
DTSTART:20241103T070000
END:STANDARD
BEGIN:DAYLIGHT
TZOFFSETFROM:-0600
TZOFFSETTO:-0500
TZNAME:CDT
DTSTART:20250309T080000
END:DAYLIGHT
BEGIN:STANDARD
TZOFFSETFROM:-0500
TZOFFSETTO:-0600
TZNAME:CST
DTSTART:20251102T070000
END:STANDARD
BEGIN:DAYLIGHT
TZOFFSETFROM:-0600
TZOFFSETTO:-0500
TZNAME:CDT
DTSTART:20260308T080000
END:DAYLIGHT
BEGIN:STANDARD
TZOFFSETFROM:-0500
TZOFFSETTO:-0600
TZNAME:CST
DTSTART:20261101T070000
END:STANDARD
END:VTIMEZONE
BEGIN:VEVENT
DTSTART;TZID=America/Chicago:20250901T120000
DTEND;TZID=America/Chicago:20250901T160000
DTSTAMP:20260421T141234
CREATED:20250529T170922Z
LAST-MODIFIED:20250805T161807Z
UID:10000667-1756728000-1756742400@www.theglenclub.com
SUMMARY:Labor Day Cookout
DESCRIPTION:Labor Day Cookout – Monday\, September 1st | 12–4 PM \nJoin us on the patio at The Grill this Labor Day for an afternoon of delicious food\, great company\, and stunning views. From 12 to 4 PM\, we’ll be live grilling classic cookout favorites—fresh off the grill and ready for you to enjoy. \nCelebrate the holiday in comfort and style as we take care of the grilling. Enjoy timeless summer bites and panoramic views of The Glen Club’s beautiful course.
URL:https://www.theglenclub.com/calendar/labor-day-cookout/
LOCATION:The Glen Club
CATEGORIES:Members,Public
END:VEVENT
BEGIN:VEVENT
DTSTART;TZID=America/Chicago:20250903T160000
DTEND;TZID=America/Chicago:20250903T210000
DTSTAMP:20260421T141234
CREATED:20250826T154321Z
LAST-MODIFIED:20250826T155049Z
UID:10000683-1756915200-1756933200@www.theglenclub.com
SUMMARY:Tomato Takeover
DESCRIPTION:Tomato Takeover at The Grill\nSeptember 3 & 4 | 4–9 PM | $20 per person\nJoin us at The Grill at The Glen Club for a flavorful celebration of peak-season tomatoes! Our Tomato Takeover Buffet brings a vibrant all-you-can-eat spread of creative tomato-centric dishes straight to your plate\, highlighting the rich\, sun-ripened flavors that only late summer can deliver. \nOnly on September 3rd\, in addition to the buffet\, enjoy Live Music Wednesday as well as a wine tasting from HALL wines!
URL:https://www.theglenclub.com/calendar/tomato-takeover/2025-09-03/
CATEGORIES:Members,Public
END:VEVENT
BEGIN:VEVENT
DTSTART;TZID=America/Chicago:20250904T160000
DTEND;TZID=America/Chicago:20250904T210000
DTSTAMP:20260421T141234
CREATED:20250826T154321Z
LAST-MODIFIED:20250826T155049Z
UID:10000684-1757001600-1757019600@www.theglenclub.com
SUMMARY:Tomato Takeover
DESCRIPTION:Tomato Takeover at The Grill\nSeptember 3 & 4 | 4–9 PM | $20 per person\nJoin us at The Grill at The Glen Club for a flavorful celebration of peak-season tomatoes! Our Tomato Takeover Buffet brings a vibrant all-you-can-eat spread of creative tomato-centric dishes straight to your plate\, highlighting the rich\, sun-ripened flavors that only late summer can deliver. \nOnly on September 3rd\, in addition to the buffet\, enjoy Live Music Wednesday as well as a wine tasting from HALL wines!
URL:https://www.theglenclub.com/calendar/tomato-takeover/2025-09-04/
CATEGORIES:Members,Public
END:VEVENT
BEGIN:VEVENT
DTSTART;TZID=America/Chicago:20250915T170000
DTEND;TZID=America/Chicago:20250915T210000
DTSTAMP:20260421T141234
CREATED:20250826T161835Z
LAST-MODIFIED:20250826T162141Z
UID:10000685-1757955600-1757970000@www.theglenclub.com
SUMMARY:G4 Tequila Pairing Dinner
DESCRIPTION:Monday\, September 15 | 6–9 PM$65 per person – Includes 4-course dinner + tequila pairings \nCelebrate Mexican Independence Day with a curated four-course dinner\, paired with premium G4 Tequila\, hosted by Chef Clinton Dew and Patrick Timmis from G4. \n\nIncludes a welcome margarita or paloma + a special chef snack\nEvent-only pricing on G4 bottles available for purchase\n\nReserve your spot:📧 dheilmann@theglenclub.com
URL:https://www.theglenclub.com/calendar/g4-tequila-pairing-dinner/
CATEGORIES:Members,Public
END:VEVENT
END:VCALENDAR