BEGIN:VCALENDAR
VERSION:2.0
PRODID:-//The Glen Club - ECPv6.15.18//NONSGML v1.0//EN
CALSCALE:GREGORIAN
METHOD:PUBLISH
X-ORIGINAL-URL:https://www.theglenclub.com
X-WR-CALDESC:Events for The Glen Club
REFRESH-INTERVAL;VALUE=DURATION:PT1H
X-Robots-Tag:noindex
X-PUBLISHED-TTL:PT1H
BEGIN:VTIMEZONE
TZID:America/Chicago
BEGIN:DAYLIGHT
TZOFFSETFROM:-0600
TZOFFSETTO:-0500
TZNAME:CDT
DTSTART:20240310T080000
END:DAYLIGHT
BEGIN:STANDARD
TZOFFSETFROM:-0500
TZOFFSETTO:-0600
TZNAME:CST
DTSTART:20241103T070000
END:STANDARD
BEGIN:DAYLIGHT
TZOFFSETFROM:-0600
TZOFFSETTO:-0500
TZNAME:CDT
DTSTART:20250309T080000
END:DAYLIGHT
BEGIN:STANDARD
TZOFFSETFROM:-0500
TZOFFSETTO:-0600
TZNAME:CST
DTSTART:20251102T070000
END:STANDARD
BEGIN:DAYLIGHT
TZOFFSETFROM:-0600
TZOFFSETTO:-0500
TZNAME:CDT
DTSTART:20260308T080000
END:DAYLIGHT
BEGIN:STANDARD
TZOFFSETFROM:-0500
TZOFFSETTO:-0600
TZNAME:CST
DTSTART:20261101T070000
END:STANDARD
END:VTIMEZONE
BEGIN:VEVENT
DTSTART;TZID=America/Chicago:20251127T123000
DTEND;TZID=America/Chicago:20251127T180000
DTSTAMP:20260419T071517
CREATED:20250929T223901Z
LAST-MODIFIED:20250929T223901Z
UID:10000687-1764246600-1764266400@www.theglenclub.com
SUMMARY:Thanksgiving Feast
DESCRIPTION:Celebrate Thanksgiving at The Glen Club – Thursday\, November 27\, 2025! Gather with family and friends for our Annual Thanksgiving Feast at The Glen Club in Glenview\, Illinois. Let us handle the cooking while you enjoy a festive\, chef-prepared buffet in a warm and welcoming setting. Enjoy a holiday spread featuring traditional favorites and seasonal specialties\, perfect for guests of all ages. \nSeating options at 12:30 PM\, 1:00 PM\, 3:30 PM\, and 4:00 PM (2-hour seatings) \nPricing: \n\nAdults: $63 ($58 for members)\nChildren ages 4–12: $27 ($22 for members)\nChildren 3 and under: Complimentary(Tax and gratuity additional)\n\nReservations: \nReservations are required. Please RSVP to Lauren at 847-832-6431 to reserve your spot. Space is limited\, and seating times fill quickly! \nAdditional Highlights: \n\nFamily-friendly holiday atmosphere\nA stress-free way to enjoy Thanksgiving\nPerfect for gatherings with loved ones\n\nCreate lasting memories this Thanksgiving at The Glen Club—Glenview’s premier destination for family celebrations and memorable brunch events!
URL:https://www.theglenclub.com/calendar/thanksgiving-feast-2025-at-the-glen-club-glenview-il/
LOCATION:The Glen Club
CATEGORIES:Members,Public
END:VEVENT
BEGIN:VEVENT
DTSTART;TZID=America/Chicago:20251016T180000
DTEND;TZID=America/Chicago:20251016T210000
DTSTAMP:20260419T071517
CREATED:20250930T182711Z
LAST-MODIFIED:20250930T182711Z
UID:10000689-1760637600-1760648400@www.theglenclub.com
SUMMARY:Hall Wine Dinner Pairing
DESCRIPTION:Join us for an exclusive Napa Valley Wine Dinner Pairing on Thursday\, October 16th\, from 6 pm to 9 pm\, hosted by Chef Clinton Dew and Tony Gatti of Hall Napa Valley. \nEnjoy a complimentary welcome pour of rose or sparkling wine with a curated bite from Chef Clinton\, followed by a five-course culinary experience perfectly paired with premium wines from Hall and Walt\, all for just $65 per person. \nTo register\, please email Dustin at dheiilmann@theglenclub.com
URL:https://www.theglenclub.com/calendar/hall-wine-dinner-pairing/
CATEGORIES:Members,Public
END:VEVENT
BEGIN:VEVENT
DTSTART;TZID=America/Chicago:20250915T170000
DTEND;TZID=America/Chicago:20250915T210000
DTSTAMP:20260419T071517
CREATED:20250826T161835Z
LAST-MODIFIED:20250826T162141Z
UID:10000685-1757955600-1757970000@www.theglenclub.com
SUMMARY:G4 Tequila Pairing Dinner
DESCRIPTION:Monday\, September 15 | 6–9 PM$65 per person – Includes 4-course dinner + tequila pairings \nCelebrate Mexican Independence Day with a curated four-course dinner\, paired with premium G4 Tequila\, hosted by Chef Clinton Dew and Patrick Timmis from G4. \n\nIncludes a welcome margarita or paloma + a special chef snack\nEvent-only pricing on G4 bottles available for purchase\n\nReserve your spot:📧 dheilmann@theglenclub.com
URL:https://www.theglenclub.com/calendar/g4-tequila-pairing-dinner/
CATEGORIES:Members,Public
END:VEVENT
BEGIN:VEVENT
DTSTART;TZID=America/Chicago:20250904T160000
DTEND;TZID=America/Chicago:20250904T210000
DTSTAMP:20260419T071517
CREATED:20250826T154321Z
LAST-MODIFIED:20250826T155049Z
UID:10000684-1757001600-1757019600@www.theglenclub.com
SUMMARY:Tomato Takeover
DESCRIPTION:Tomato Takeover at The Grill\nSeptember 3 & 4 | 4–9 PM | $20 per person\nJoin us at The Grill at The Glen Club for a flavorful celebration of peak-season tomatoes! Our Tomato Takeover Buffet brings a vibrant all-you-can-eat spread of creative tomato-centric dishes straight to your plate\, highlighting the rich\, sun-ripened flavors that only late summer can deliver. \nOnly on September 3rd\, in addition to the buffet\, enjoy Live Music Wednesday as well as a wine tasting from HALL wines!
URL:https://www.theglenclub.com/calendar/tomato-takeover/2025-09-04/
CATEGORIES:Members,Public
END:VEVENT
BEGIN:VEVENT
DTSTART;TZID=America/Chicago:20250903T160000
DTEND;TZID=America/Chicago:20250903T210000
DTSTAMP:20260419T071517
CREATED:20250826T154321Z
LAST-MODIFIED:20250826T155049Z
UID:10000683-1756915200-1756933200@www.theglenclub.com
SUMMARY:Tomato Takeover
DESCRIPTION:Tomato Takeover at The Grill\nSeptember 3 & 4 | 4–9 PM | $20 per person\nJoin us at The Grill at The Glen Club for a flavorful celebration of peak-season tomatoes! Our Tomato Takeover Buffet brings a vibrant all-you-can-eat spread of creative tomato-centric dishes straight to your plate\, highlighting the rich\, sun-ripened flavors that only late summer can deliver. \nOnly on September 3rd\, in addition to the buffet\, enjoy Live Music Wednesday as well as a wine tasting from HALL wines!
URL:https://www.theglenclub.com/calendar/tomato-takeover/2025-09-03/
CATEGORIES:Members,Public
END:VEVENT
BEGIN:VEVENT
DTSTART;TZID=America/Chicago:20250901T120000
DTEND;TZID=America/Chicago:20250901T160000
DTSTAMP:20260419T071517
CREATED:20250529T170922Z
LAST-MODIFIED:20250805T161807Z
UID:10000667-1756728000-1756742400@www.theglenclub.com
SUMMARY:Labor Day Cookout
DESCRIPTION:Labor Day Cookout – Monday\, September 1st | 12–4 PM \nJoin us on the patio at The Grill this Labor Day for an afternoon of delicious food\, great company\, and stunning views. From 12 to 4 PM\, we’ll be live grilling classic cookout favorites—fresh off the grill and ready for you to enjoy. \nCelebrate the holiday in comfort and style as we take care of the grilling. Enjoy timeless summer bites and panoramic views of The Glen Club’s beautiful course.
URL:https://www.theglenclub.com/calendar/labor-day-cookout/
LOCATION:The Glen Club
CATEGORIES:Members,Public
END:VEVENT
BEGIN:VEVENT
DTSTART;TZID=America/Chicago:20250817T170000
DTEND;TZID=America/Chicago:20250817T200000
DTSTAMP:20260419T071517
CREATED:20250805T160245Z
LAST-MODIFIED:20250805T160345Z
UID:10000681-1755450000-1755460800@www.theglenclub.com
SUMMARY:Red Sauce Night
DESCRIPTION:Red Sauce Night Joint Takeover – Sunday\, August 17th | 5-8pm \nStep into a Chicago-style red sauce night—Italian vibes\, checkered tablecloths\, and live lounge tunes featuring Simply Jeorge! We’re serving up an abbondanza of Italian-American favorites\, complete with red & white checkered tables and a cozy\, old-school vibe. \nEnjoy a special menu inspired by Chicago’s classic red sauce joints\, with a limited grill menu also available. \nFeaturing live lounge music with Simply Jeorge\, featuring standards from Diana Krall\, Frank Sinatra\, and more.
URL:https://www.theglenclub.com/calendar/red-sauce-night-2/
CATEGORIES:Members,Public
END:VEVENT
BEGIN:VEVENT
DTSTART;TZID=America/Chicago:20250718T170000
DTEND;TZID=America/Chicago:20250718T200000
DTSTAMP:20260419T071517
CREATED:20250708T184918Z
LAST-MODIFIED:20250708T185047Z
UID:10000680-1752858000-1752868800@www.theglenclub.com
SUMMARY:Shrimp Boil
DESCRIPTION:Experience summer at its best with a classic Shrimp Boil! Join us on Friday\, July 18th to enjoy a flavorful feast at The Grill on the patio to relax and make memories with great company. Reserve your spot today by calling us at 847.832.6403. We can’t wait to see you there!
URL:https://www.theglenclub.com/calendar/shrimp-boil/
CATEGORIES:Members,Public
END:VEVENT
BEGIN:VEVENT
DTSTART;TZID=America/Chicago:20250704T120000
DTEND;TZID=America/Chicago:20250704T160000
DTSTAMP:20260419T071517
CREATED:20250529T170739Z
LAST-MODIFIED:20250624T154900Z
UID:10000666-1751630400-1751644800@www.theglenclub.com
SUMMARY:4th of July Cookout
DESCRIPTION:Thursday\, July 4 | 12:00 PM – 4:00 PM \n$33 per person | $45 with premium meats \nCelebrate Independence Day with a festive cookout on the Grill Terrace! Savor summer favorites fresh off the live grill\, enjoy refreshing drinks\, and live music all afternoon. \nGather with friends and family for a relaxed\, patriotic afternoon filled with delicious food\, great company\, and all-American vibes. \nReserve your spot today—call us at 847.832.6403. \nWe look forward to celebrating the 4th with you!
URL:https://www.theglenclub.com/calendar/4th-of-july-cookout/
CATEGORIES:Members,Public
END:VEVENT
BEGIN:VEVENT
DTSTART;TZID=America/Chicago:20250615T110000
DTEND;TZID=America/Chicago:20250615T170000
DTSTAMP:20260419T071517
CREATED:20250518T194318Z
LAST-MODIFIED:20250528T214809Z
UID:10000143-1749985200-1750006800@www.theglenclub.com
SUMMARY:Father's Day Cookout
DESCRIPTION:Sunday\, June 15 | 11:00 AM – 5:00 PM\n$33 per person | $45 with premium meats \nCelebrate Dad in style with a festive summer cookout on the Grill Terrace! Enjoy great food off the live grill\, refreshing drinks\, and a lively Beer Tent featuring Yuengling on tap for $6 a draft. \nBring the whole family for a fun\, relaxed day filled with good vibes\, delicious eats\, and plenty of reasons to toast to Dad. \nReserve now—call us at 847.832.6403. \nWe can’t wait to celebrate with you!
URL:https://www.theglenclub.com/calendar/fathers-day-cookout/
CATEGORIES:Members,Public
ATTACH;FMTTYPE=image/png:https://www.theglenclub.com/wp-content/uploads/sites/9209/2025/05/Fathers-Day-Grillin-e1748467336895.png
END:VEVENT
BEGIN:VEVENT
DTSTART;TZID=America/Chicago:20250608T170000
DTEND;TZID=America/Chicago:20250608T200000
DTSTAMP:20260419T071517
CREATED:20250529T164531Z
LAST-MODIFIED:20250530T170544Z
UID:10000421-1749402000-1749412800@www.theglenclub.com
SUMMARY:Red Sauce Night
DESCRIPTION:Red Sauce Night – Sunday\, June 8th | 5-8pm \nStep into a Chicago-style red sauce night—Italian vibes\, checkered tablecloths\, and live lounge tunes! Join us Sunday\, June 8 from 5-8pm at The Grill for our Red Sauce Joint Takeover. \nWe’re serving up an abbondanza of Italian-American favorites\, complete with red & white checkered tables and a cozy\, old-school vibe. \nEnjoy a special menu inspired by Chicago’s classic red sauce joints\, with a limited grill menu also available. Featuring live lounge piano with pop standards from Diana Krall\, Frank Sinatra\, and more. \nReserve now—call us at 847.832.6403.
URL:https://www.theglenclub.com/calendar/red-sauce-night/
LOCATION:The Glen Club
CATEGORIES:Members,Public
END:VEVENT
BEGIN:VEVENT
DTSTART;TZID=America/Chicago:20250418T160000
DTEND;TZID=America/Chicago:20250418T160000
DTSTAMP:20260419T071517
CREATED:20250212T223555Z
LAST-MODIFIED:20250212T223555Z
UID:10000080-1744992000-1744992000@www.theglenclub.com
SUMMARY:Supper Club Night
DESCRIPTION:The infamous Glen Club supper club night returns! \nEvery Friday 4pm – close.\nFebruary 7 – April 18th at the Glen Club Grill.\nEvery table gets a relish tray \nPo’boys\, fried walleye\, Salsbury steaks\, brandy alexanders\, classic rock and more! \nSee you there!
URL:https://www.theglenclub.com/calendar/supper-club-night-2/2025-04-18/
CATEGORIES:Public
END:VEVENT
BEGIN:VEVENT
DTSTART;TZID=America/Chicago:20250411T160000
DTEND;TZID=America/Chicago:20250411T160000
DTSTAMP:20260419T071517
CREATED:20250212T223555Z
LAST-MODIFIED:20250212T223555Z
UID:10000079-1744387200-1744387200@www.theglenclub.com
SUMMARY:Supper Club Night
DESCRIPTION:The infamous Glen Club supper club night returns! \nEvery Friday 4pm – close.\nFebruary 7 – April 18th at the Glen Club Grill.\nEvery table gets a relish tray \nPo’boys\, fried walleye\, Salsbury steaks\, brandy alexanders\, classic rock and more! \nSee you there!
URL:https://www.theglenclub.com/calendar/supper-club-night-2/2025-04-11/
CATEGORIES:Public
END:VEVENT
BEGIN:VEVENT
DTSTART;TZID=America/Chicago:20250404T160000
DTEND;TZID=America/Chicago:20250404T160000
DTSTAMP:20260419T071517
CREATED:20250212T223555Z
LAST-MODIFIED:20250212T223555Z
UID:10000078-1743782400-1743782400@www.theglenclub.com
SUMMARY:Supper Club Night
DESCRIPTION:The infamous Glen Club supper club night returns! \nEvery Friday 4pm – close.\nFebruary 7 – April 18th at the Glen Club Grill.\nEvery table gets a relish tray \nPo’boys\, fried walleye\, Salsbury steaks\, brandy alexanders\, classic rock and more! \nSee you there!
URL:https://www.theglenclub.com/calendar/supper-club-night-2/2025-04-04/
CATEGORIES:Public
END:VEVENT
BEGIN:VEVENT
DTSTART;TZID=America/Chicago:20250328T160000
DTEND;TZID=America/Chicago:20250328T160000
DTSTAMP:20260419T071517
CREATED:20250212T223555Z
LAST-MODIFIED:20250212T223555Z
UID:10000077-1743177600-1743177600@www.theglenclub.com
SUMMARY:Supper Club Night
DESCRIPTION:The infamous Glen Club supper club night returns! \nEvery Friday 4pm – close.\nFebruary 7 – April 18th at the Glen Club Grill.\nEvery table gets a relish tray \nPo’boys\, fried walleye\, Salsbury steaks\, brandy alexanders\, classic rock and more! \nSee you there!
URL:https://www.theglenclub.com/calendar/supper-club-night-2/2025-03-28/
CATEGORIES:Public
END:VEVENT
BEGIN:VEVENT
DTSTART;TZID=America/Chicago:20250321T160000
DTEND;TZID=America/Chicago:20250321T160000
DTSTAMP:20260419T071517
CREATED:20250212T223555Z
LAST-MODIFIED:20250212T223555Z
UID:10000076-1742572800-1742572800@www.theglenclub.com
SUMMARY:Supper Club Night
DESCRIPTION:The infamous Glen Club supper club night returns! \nEvery Friday 4pm – close.\nFebruary 7 – April 18th at the Glen Club Grill.\nEvery table gets a relish tray \nPo’boys\, fried walleye\, Salsbury steaks\, brandy alexanders\, classic rock and more! \nSee you there!
URL:https://www.theglenclub.com/calendar/supper-club-night-2/2025-03-21/
CATEGORIES:Public
END:VEVENT
BEGIN:VEVENT
DTSTART;TZID=America/Chicago:20250314T160000
DTEND;TZID=America/Chicago:20250314T160000
DTSTAMP:20260419T071517
CREATED:20250212T223555Z
LAST-MODIFIED:20250212T223555Z
UID:10000075-1741968000-1741968000@www.theglenclub.com
SUMMARY:Supper Club Night
DESCRIPTION:The infamous Glen Club supper club night returns! \nEvery Friday 4pm – close.\nFebruary 7 – April 18th at the Glen Club Grill.\nEvery table gets a relish tray \nPo’boys\, fried walleye\, Salsbury steaks\, brandy alexanders\, classic rock and more! \nSee you there!
URL:https://www.theglenclub.com/calendar/supper-club-night-2/2025-03-14/
CATEGORIES:Public
END:VEVENT
BEGIN:VEVENT
DTSTART;TZID=America/Chicago:20250309T103000
DTEND;TZID=America/Chicago:20250309T103000
DTSTAMP:20260419T071517
CREATED:20250212T222444Z
LAST-MODIFIED:20250212T222501Z
UID:10000069-1741516200-1741516200@www.theglenclub.com
SUMMARY:Brunch With Your Favorite Dog
DESCRIPTION:Join us for a brunch with your favorite dog March 9th 2025 10:30 am. \nAdults $38 / Members $33\nChildren 3+ $20 / Members $15\nChildren 2 and under complimentary \nCall Lauren to reserve your spot 847-832-6431
URL:https://www.theglenclub.com/calendar/brunch-with-your-favorite-dog/
CATEGORIES:Public
END:VEVENT
BEGIN:VEVENT
DTSTART;TZID=America/Chicago:20250307T160000
DTEND;TZID=America/Chicago:20250307T160000
DTSTAMP:20260419T071518
CREATED:20250212T223555Z
LAST-MODIFIED:20250212T223555Z
UID:10000074-1741363200-1741363200@www.theglenclub.com
SUMMARY:Supper Club Night
DESCRIPTION:The infamous Glen Club supper club night returns! \nEvery Friday 4pm – close.\nFebruary 7 – April 18th at the Glen Club Grill.\nEvery table gets a relish tray \nPo’boys\, fried walleye\, Salsbury steaks\, brandy alexanders\, classic rock and more! \nSee you there!
URL:https://www.theglenclub.com/calendar/supper-club-night-2/2025-03-07/
CATEGORIES:Public
END:VEVENT
BEGIN:VEVENT
DTSTART;TZID=America/Chicago:20250228T160000
DTEND;TZID=America/Chicago:20250228T160000
DTSTAMP:20260419T071518
CREATED:20250212T223555Z
LAST-MODIFIED:20250212T223555Z
UID:10000073-1740758400-1740758400@www.theglenclub.com
SUMMARY:Supper Club Night
DESCRIPTION:The infamous Glen Club supper club night returns! \nEvery Friday 4pm – close.\nFebruary 7 – April 18th at the Glen Club Grill.\nEvery table gets a relish tray \nPo’boys\, fried walleye\, Salsbury steaks\, brandy alexanders\, classic rock and more! \nSee you there!
URL:https://www.theglenclub.com/calendar/supper-club-night-2/2025-02-28/
CATEGORIES:Public
END:VEVENT
BEGIN:VEVENT
DTSTART;TZID=America/Chicago:20250221T160000
DTEND;TZID=America/Chicago:20250221T160000
DTSTAMP:20260419T071518
CREATED:20250212T223555Z
LAST-MODIFIED:20250212T223555Z
UID:10000071-1740153600-1740153600@www.theglenclub.com
SUMMARY:Supper Club Night
DESCRIPTION:The infamous Glen Club supper club night returns! \nEvery Friday 4pm – close.\nFebruary 7 – April 18th at the Glen Club Grill.\nEvery table gets a relish tray \nPo’boys\, fried walleye\, Salsbury steaks\, brandy alexanders\, classic rock and more! \nSee you there!
URL:https://www.theglenclub.com/calendar/supper-club-night-2/2025-02-21/
CATEGORIES:Public
END:VEVENT
BEGIN:VEVENT
DTSTART;TZID=America/Chicago:20250216T160000
DTEND;TZID=America/Chicago:20250216T160000
DTSTAMP:20260419T071518
CREATED:20250212T223232Z
LAST-MODIFIED:20250212T223242Z
UID:10000082-1739721600-1739721600@www.theglenclub.com
SUMMARY:Valentine's Week Specials
DESCRIPTION:Offered 2/15 and 2/16 beginning at 4pm
URL:https://www.theglenclub.com/calendar/valentines-week-specials/2025-02-16/
CATEGORIES:Public
END:VEVENT
BEGIN:VEVENT
DTSTART;TZID=America/Chicago:20250215T160000
DTEND;TZID=America/Chicago:20250215T160000
DTSTAMP:20260419T071518
CREATED:20250212T223232Z
LAST-MODIFIED:20250212T223242Z
UID:10000081-1739635200-1739635200@www.theglenclub.com
SUMMARY:Valentine's Week Specials
DESCRIPTION:Offered 2/15 and 2/16 beginning at 4pm
URL:https://www.theglenclub.com/calendar/valentines-week-specials/2025-02-15/
CATEGORIES:Public
END:VEVENT
END:VCALENDAR